BEGIN:VCALENDAR
VERSION:2.0
PRODID:-//All Day Montessori - ECPv6.15.20//NONSGML v1.0//EN
CALSCALE:GREGORIAN
METHOD:PUBLISH
X-WR-CALNAME:All Day Montessori
X-ORIGINAL-URL:https://alldaymontessori.org
X-WR-CALDESC:Events for All Day Montessori
REFRESH-INTERVAL;VALUE=DURATION:PT1H
X-Robots-Tag:noindex
X-PUBLISHED-TTL:PT1H
BEGIN:VTIMEZONE
TZID:America/Chicago
BEGIN:DAYLIGHT
TZOFFSETFROM:-0600
TZOFFSETTO:-0500
TZNAME:CDT
DTSTART:20210314T080000
END:DAYLIGHT
BEGIN:STANDARD
TZOFFSETFROM:-0500
TZOFFSETTO:-0600
TZNAME:CST
DTSTART:20211107T070000
END:STANDARD
BEGIN:DAYLIGHT
TZOFFSETFROM:-0600
TZOFFSETTO:-0500
TZNAME:CDT
DTSTART:20220313T080000
END:DAYLIGHT
BEGIN:STANDARD
TZOFFSETFROM:-0500
TZOFFSETTO:-0600
TZNAME:CST
DTSTART:20221106T070000
END:STANDARD
BEGIN:DAYLIGHT
TZOFFSETFROM:-0600
TZOFFSETTO:-0500
TZNAME:CDT
DTSTART:20230312T080000
END:DAYLIGHT
BEGIN:STANDARD
TZOFFSETFROM:-0500
TZOFFSETTO:-0600
TZNAME:CST
DTSTART:20231105T070000
END:STANDARD
BEGIN:DAYLIGHT
TZOFFSETFROM:-0600
TZOFFSETTO:-0500
TZNAME:CDT
DTSTART:20240310T080000
END:DAYLIGHT
BEGIN:STANDARD
TZOFFSETFROM:-0500
TZOFFSETTO:-0600
TZNAME:CST
DTSTART:20241103T070000
END:STANDARD
BEGIN:DAYLIGHT
TZOFFSETFROM:-0600
TZOFFSETTO:-0500
TZNAME:CDT
DTSTART:20250309T080000
END:DAYLIGHT
BEGIN:STANDARD
TZOFFSETFROM:-0500
TZOFFSETTO:-0600
TZNAME:CST
DTSTART:20251102T070000
END:STANDARD
BEGIN:DAYLIGHT
TZOFFSETFROM:-0600
TZOFFSETTO:-0500
TZNAME:CDT
DTSTART:20260308T080000
END:DAYLIGHT
BEGIN:STANDARD
TZOFFSETFROM:-0500
TZOFFSETTO:-0600
TZNAME:CST
DTSTART:20261101T070000
END:STANDARD
BEGIN:DAYLIGHT
TZOFFSETFROM:-0600
TZOFFSETTO:-0500
TZNAME:CDT
DTSTART:20270314T080000
END:DAYLIGHT
BEGIN:STANDARD
TZOFFSETFROM:-0500
TZOFFSETTO:-0600
TZNAME:CST
DTSTART:20271107T070000
END:STANDARD
END:VTIMEZONE
BEGIN:VEVENT
DTSTART;VALUE=DATE:20260420
DTEND;VALUE=DATE:20260421
DTSTAMP:20260425T170047
CREATED:20260108T172105Z
LAST-MODIFIED:20260108T172105Z
UID:2454-1776643200-1776729599@alldaymontessori.org
SUMMARY:Professional Development Day
DESCRIPTION:No School For Students
URL:https://alldaymontessori.org/event/professional-development-day-2/
CATEGORIES:No School
END:VEVENT
BEGIN:VEVENT
DTSTART;VALUE=DATE:20260406
DTEND;VALUE=DATE:20260411
DTSTAMP:20260425T170047
CREATED:20260108T171936Z
LAST-MODIFIED:20260108T171936Z
UID:2452-1775433600-1775865599@alldaymontessori.org
SUMMARY:Spring Break
DESCRIPTION:Spring Holiday – NO SCHOOL
URL:https://alldaymontessori.org/event/spring-break/
CATEGORIES:No School
END:VEVENT
BEGIN:VEVENT
DTSTART;VALUE=DATE:20260313
DTEND;VALUE=DATE:20260314
DTSTAMP:20260425T170047
CREATED:20260108T171443Z
LAST-MODIFIED:20260108T171443Z
UID:2448-1773360000-1773446399@alldaymontessori.org
SUMMARY:Parent Teacher Conferences
DESCRIPTION:No School for students
URL:https://alldaymontessori.org/event/parent-teacher-conferences/
CATEGORIES:No School,School Event
END:VEVENT
BEGIN:VEVENT
DTSTART;VALUE=DATE:20260217
DTEND;VALUE=DATE:20260218
DTSTAMP:20260425T170047
CREATED:20251112T152430Z
LAST-MODIFIED:20251112T152430Z
UID:2434-1771286400-1771372799@alldaymontessori.org
SUMMARY:Professional Development Day
DESCRIPTION:No School For Students
URL:https://alldaymontessori.org/event/professional-development-day/
CATEGORIES:No School
END:VEVENT
BEGIN:VEVENT
DTSTART;VALUE=DATE:20260119
DTEND;VALUE=DATE:20260120
DTSTAMP:20260425T170047
CREATED:20251112T151950Z
LAST-MODIFIED:20251112T151950Z
UID:2430-1768780800-1768867199@alldaymontessori.org
SUMMARY:Martin Luther King Jr. Day
DESCRIPTION:No School for Students
URL:https://alldaymontessori.org/event/martin-luther-king-jr-day/
CATEGORIES:No School
END:VEVENT
BEGIN:VEVENT
DTSTART;VALUE=DATE:20251222
DTEND;VALUE=DATE:20260103
DTSTAMP:20260425T170047
CREATED:20251112T151738Z
LAST-MODIFIED:20251112T151738Z
UID:2426-1766361600-1767398399@alldaymontessori.org
SUMMARY:Winter Break
DESCRIPTION:
URL:https://alldaymontessori.org/event/winter-break/
CATEGORIES:No School
END:VEVENT
BEGIN:VEVENT
DTSTART;VALUE=DATE:20251126
DTEND;VALUE=DATE:20251129
DTSTAMP:20260425T170047
CREATED:20251112T151056Z
LAST-MODIFIED:20251112T151056Z
UID:2421-1764115200-1764374399@alldaymontessori.org
SUMMARY:Thanksgiving Break
DESCRIPTION:
URL:https://alldaymontessori.org/event/thanksgiving-break/
CATEGORIES:No School
END:VEVENT
BEGIN:VEVENT
DTSTART;VALUE=DATE:20251013
DTEND;VALUE=DATE:20251014
DTSTAMP:20260425T170047
CREATED:20250829T171928Z
LAST-MODIFIED:20250829T171928Z
UID:2373-1760313600-1760399999@alldaymontessori.org
SUMMARY:Indigenous Peoples Day
DESCRIPTION:All Day Montessori will be closed in observation of Indigenous Peoples Day.
URL:https://alldaymontessori.org/event/indigenous-peoples-day/
CATEGORIES:No School
END:VEVENT
BEGIN:VEVENT
DTSTART;VALUE=DATE:20250217
DTEND;VALUE=DATE:20250218
DTSTAMP:20260425T170047
CREATED:20240805T200017Z
LAST-MODIFIED:20240805T200017Z
UID:2203-1739750400-1739836799@alldaymontessori.org
SUMMARY:President’s Day –NO SCHOOL
DESCRIPTION:
URL:https://alldaymontessori.org/event/presidents-day-no-school-4/
CATEGORIES:No School
END:VEVENT
BEGIN:VEVENT
DTSTART;VALUE=DATE:20250120
DTEND;VALUE=DATE:20250121
DTSTAMP:20260425T170047
CREATED:20240805T195947Z
LAST-MODIFIED:20240805T195947Z
UID:2201-1737331200-1737417599@alldaymontessori.org
SUMMARY:Martin Luther King’s Birthday Holiday – NO SCHOOL
DESCRIPTION:
URL:https://alldaymontessori.org/event/martin-luther-kings-birthday-holiday-no-school-4/
CATEGORIES:No School
END:VEVENT
BEGIN:VEVENT
DTSTART;VALUE=DATE:20241223
DTEND;VALUE=DATE:20250104
DTSTAMP:20260425T170047
CREATED:20240805T195008Z
LAST-MODIFIED:20240805T195008Z
UID:2199-1734912000-1735948799@alldaymontessori.org
SUMMARY:Winter Break – NO SCHOOL
DESCRIPTION:
URL:https://alldaymontessori.org/event/winter-break-no-school-4/
CATEGORIES:No School
END:VEVENT
BEGIN:VEVENT
DTSTART;VALUE=DATE:20241127
DTEND;VALUE=DATE:20241130
DTSTAMP:20260425T170047
CREATED:20240805T194858Z
LAST-MODIFIED:20240805T194858Z
UID:2195-1732665600-1732924799@alldaymontessori.org
SUMMARY:Thanksgiving Holiday – NO SCHOOL
DESCRIPTION:
URL:https://alldaymontessori.org/event/thanksgiving-holiday-no-school-5/
CATEGORIES:No School
END:VEVENT
BEGIN:VEVENT
DTSTART;VALUE=DATE:20241108
DTEND;VALUE=DATE:20241109
DTSTAMP:20260425T170047
CREATED:20240805T194519Z
LAST-MODIFIED:20240805T194519Z
UID:2189-1731024000-1731110399@alldaymontessori.org
SUMMARY:Conference Day- NO SCHOOL FOR STUDENTS
DESCRIPTION:
URL:https://alldaymontessori.org/event/conference-day-no-school-for-students-8/
CATEGORIES:No School
END:VEVENT
BEGIN:VEVENT
DTSTART;VALUE=DATE:20241014
DTEND;VALUE=DATE:20241015
DTSTAMP:20260425T170047
CREATED:20240805T194410Z
LAST-MODIFIED:20240805T194410Z
UID:2185-1728864000-1728950399@alldaymontessori.org
SUMMARY:Indigenous Peoples/Columbus Day-NO SCHOOL
DESCRIPTION:
URL:https://alldaymontessori.org/event/indigenous-peoples-columbus-day-no-school-4/
CATEGORIES:No School
END:VEVENT
BEGIN:VEVENT
DTSTART;VALUE=DATE:20240902
DTEND;VALUE=DATE:20240903
DTSTAMP:20260425T170047
CREATED:20240805T194307Z
LAST-MODIFIED:20240805T194307Z
UID:2181-1725235200-1725321599@alldaymontessori.org
SUMMARY:Labor Day/NO SCHOOL
DESCRIPTION:
URL:https://alldaymontessori.org/event/labor-day-no-school-2/
CATEGORIES:No School
END:VEVENT
BEGIN:VEVENT
DTSTART;VALUE=DATE:20240328
DTEND;VALUE=DATE:20240329
DTSTAMP:20260425T170047
CREATED:20240805T200447Z
LAST-MODIFIED:20240805T200712Z
UID:2207-1711584000-1711670399@alldaymontessori.org
SUMMARY:Conference Day - NO SCHOOL FOR STUDENTS
DESCRIPTION:
URL:https://alldaymontessori.org/event/spring-parent-night-4/
CATEGORIES:No School
END:VEVENT
BEGIN:VEVENT
DTSTART;VALUE=DATE:20230529
DTEND;VALUE=DATE:20230530
DTSTAMP:20260425T170047
CREATED:20220322T193548Z
LAST-MODIFIED:20220322T193548Z
UID:1897-1685318400-1685404799@alldaymontessori.org
SUMMARY:Memorial Day Holiday – NO SCHOOL
DESCRIPTION:
URL:https://alldaymontessori.org/event/memorial-day-holiday-no-school-3/
CATEGORIES:No School
END:VEVENT
BEGIN:VEVENT
DTSTART;VALUE=DATE:20230403
DTEND;VALUE=DATE:20230408
DTSTAMP:20260425T170047
CREATED:20220322T193437Z
LAST-MODIFIED:20220322T193443Z
UID:1888-1680480000-1680911999@alldaymontessori.org
SUMMARY:Spring Holiday - NO SCHOOL
DESCRIPTION:
URL:https://alldaymontessori.org/event/spring-holiday/
CATEGORIES:No School
END:VEVENT
BEGIN:VEVENT
DTSTART;VALUE=DATE:20230331
DTEND;VALUE=DATE:20230401
DTSTAMP:20260425T170047
CREATED:20220322T193401Z
LAST-MODIFIED:20220322T193401Z
UID:1886-1680220800-1680307199@alldaymontessori.org
SUMMARY:Conference Day - NO SCHOOL FOR STUDENTS
DESCRIPTION:
URL:https://alldaymontessori.org/event/conference-day-no-school-for-students-6/
CATEGORIES:No School
END:VEVENT
BEGIN:VEVENT
DTSTART;VALUE=DATE:20230327
DTEND;VALUE=DATE:20230328
DTSTAMP:20260425T170047
CREATED:20220322T193345Z
LAST-MODIFIED:20220322T193345Z
UID:1884-1679875200-1679961599@alldaymontessori.org
SUMMARY:Professional Development Day – NO SCHOOL FOR STUDENTS
DESCRIPTION:
URL:https://alldaymontessori.org/event/professional-development-day-no-school-for-students-6/
CATEGORIES:No School
END:VEVENT
BEGIN:VEVENT
DTSTART;VALUE=DATE:20230220
DTEND;VALUE=DATE:20230221
DTSTAMP:20260425T170047
CREATED:20220322T193310Z
LAST-MODIFIED:20220322T193310Z
UID:1880-1676851200-1676937599@alldaymontessori.org
SUMMARY:President’s Day –NO SCHOOL
DESCRIPTION:
URL:https://alldaymontessori.org/event/presidents-day-no-school-3/
CATEGORIES:No School
END:VEVENT
BEGIN:VEVENT
DTSTART;VALUE=DATE:20230130
DTEND;VALUE=DATE:20230131
DTSTAMP:20260425T170047
CREATED:20220322T193255Z
LAST-MODIFIED:20220322T193255Z
UID:1878-1675036800-1675123199@alldaymontessori.org
SUMMARY:Professional Development Day – NO SCHOOL FOR STUDENTS
DESCRIPTION:
URL:https://alldaymontessori.org/event/professional-development-day-no-school-for-students-5/
CATEGORIES:No School
END:VEVENT
BEGIN:VEVENT
DTSTART;VALUE=DATE:20230116
DTEND;VALUE=DATE:20230117
DTSTAMP:20260425T170047
CREATED:20220322T193240Z
LAST-MODIFIED:20220322T193240Z
UID:1876-1673827200-1673913599@alldaymontessori.org
SUMMARY:Martin Luther King’s Birthday Holiday – NO SCHOOL
DESCRIPTION:
URL:https://alldaymontessori.org/event/martin-luther-kings-birthday-holiday-no-school-3/
CATEGORIES:No School
END:VEVENT
BEGIN:VEVENT
DTSTART;VALUE=DATE:20221226
DTEND;VALUE=DATE:20230107
DTSTAMP:20260425T170047
CREATED:20220322T193207Z
LAST-MODIFIED:20220322T193207Z
UID:1872-1672012800-1673049599@alldaymontessori.org
SUMMARY:Winter Break – NO SCHOOL
DESCRIPTION:
URL:https://alldaymontessori.org/event/winter-break-no-school-2/
CATEGORIES:No School
END:VEVENT
BEGIN:VEVENT
DTSTART;VALUE=DATE:20221123
DTEND;VALUE=DATE:20221126
DTSTAMP:20260425T170047
CREATED:20220322T193131Z
LAST-MODIFIED:20220322T193131Z
UID:1868-1669161600-1669420799@alldaymontessori.org
SUMMARY:Thanksgiving Holiday – NO SCHOOL
DESCRIPTION:
URL:https://alldaymontessori.org/event/thanksgiving-holiday-no-school-3/
CATEGORIES:No School
END:VEVENT
BEGIN:VEVENT
DTSTART;VALUE=DATE:20221111
DTEND;VALUE=DATE:20221112
DTSTAMP:20260425T170047
CREATED:20220322T193045Z
LAST-MODIFIED:20220322T193045Z
UID:1862-1668124800-1668211199@alldaymontessori.org
SUMMARY:Conference Day- NO SCHOOL FOR STUDENTS
DESCRIPTION:
URL:https://alldaymontessori.org/event/conference-day-no-school-for-students-5/
CATEGORIES:No School
END:VEVENT
BEGIN:VEVENT
DTSTART;VALUE=DATE:20221010
DTEND;VALUE=DATE:20221011
DTSTAMP:20260425T170047
CREATED:20220322T192913Z
LAST-MODIFIED:20220322T192913Z
UID:1856-1665360000-1665446399@alldaymontessori.org
SUMMARY:Indigenous Peoples/Columbus Day-NO SCHOOL
DESCRIPTION:
URL:https://alldaymontessori.org/event/indigenous-peoples-columbus-day-no-school-2/
CATEGORIES:No School
END:VEVENT
BEGIN:VEVENT
DTSTART;VALUE=DATE:20220829
DTEND;VALUE=DATE:20220903
DTSTAMP:20260425T170047
CREATED:20220322T192802Z
LAST-MODIFIED:20220322T192802Z
UID:1848-1661731200-1662163199@alldaymontessori.org
SUMMARY:Teacher Work Week
DESCRIPTION:
URL:https://alldaymontessori.org/event/teacher-work-week-2/
CATEGORIES:No School
END:VEVENT
BEGIN:VEVENT
DTSTART;VALUE=DATE:20220822
DTEND;VALUE=DATE:20220827
DTSTAMP:20260425T170047
CREATED:20220322T192742Z
LAST-MODIFIED:20220322T192742Z
UID:1846-1661126400-1661558399@alldaymontessori.org
SUMMARY:ADM Closed
DESCRIPTION:
URL:https://alldaymontessori.org/event/adm-closed-2/
CATEGORIES:No School
END:VEVENT
BEGIN:VEVENT
DTSTART;VALUE=DATE:20220704
DTEND;VALUE=DATE:20220705
DTSTAMP:20260425T170047
CREATED:20220322T192704Z
LAST-MODIFIED:20220322T192704Z
UID:1842-1656892800-1656979199@alldaymontessori.org
SUMMARY:Independence Day – NO SCHOOL
DESCRIPTION:
URL:https://alldaymontessori.org/event/independence-day-no-school/
CATEGORIES:No School
END:VEVENT
END:VCALENDAR