BEGIN:VCALENDAR
VERSION:2.0
PRODID:-//All Day Montessori - ECPv6.15.20//NONSGML v1.0//EN
CALSCALE:GREGORIAN
METHOD:PUBLISH
X-WR-CALNAME:All Day Montessori
X-ORIGINAL-URL:https://alldaymontessori.org
X-WR-CALDESC:Events for All Day Montessori
REFRESH-INTERVAL;VALUE=DURATION:PT1H
X-Robots-Tag:noindex
X-PUBLISHED-TTL:PT1H
BEGIN:VTIMEZONE
TZID:America/Chicago
BEGIN:DAYLIGHT
TZOFFSETFROM:-0600
TZOFFSETTO:-0500
TZNAME:CDT
DTSTART:20200308T080000
END:DAYLIGHT
BEGIN:STANDARD
TZOFFSETFROM:-0500
TZOFFSETTO:-0600
TZNAME:CST
DTSTART:20201101T070000
END:STANDARD
BEGIN:DAYLIGHT
TZOFFSETFROM:-0600
TZOFFSETTO:-0500
TZNAME:CDT
DTSTART:20210314T080000
END:DAYLIGHT
BEGIN:STANDARD
TZOFFSETFROM:-0500
TZOFFSETTO:-0600
TZNAME:CST
DTSTART:20211107T070000
END:STANDARD
BEGIN:DAYLIGHT
TZOFFSETFROM:-0600
TZOFFSETTO:-0500
TZNAME:CDT
DTSTART:20220313T080000
END:DAYLIGHT
BEGIN:STANDARD
TZOFFSETFROM:-0500
TZOFFSETTO:-0600
TZNAME:CST
DTSTART:20221106T070000
END:STANDARD
END:VTIMEZONE
BEGIN:VEVENT
DTSTART;TZID=America/Chicago:20210318T180000
DTEND;TZID=America/Chicago:20210318T200000
DTSTAMP:20260423T082459
CREATED:20200914T183234Z
LAST-MODIFIED:20200914T183234Z
UID:1504-1616090400-1616097600@alldaymontessori.org
SUMMARY:Spring Parent Night
DESCRIPTION:
URL:https://alldaymontessori.org/event/spring-parent-night/
CATEGORIES:Parent Night
END:VEVENT
BEGIN:VEVENT
DTSTART;VALUE=DATE:20210322
DTEND;VALUE=DATE:20210323
DTSTAMP:20260423T082459
CREATED:20200914T183248Z
LAST-MODIFIED:20210217T172425Z
UID:1506-1616371200-1616457599@alldaymontessori.org
SUMMARY:Professional Development Day – NO SCHOOL FOR STUDENTS
DESCRIPTION:
URL:https://alldaymontessori.org/event/professional-development-day-no-school-for-students-2/
CATEGORIES:No School
END:VEVENT
BEGIN:VEVENT
DTSTART;VALUE=DATE:20210326
DTEND;VALUE=DATE:20210327
DTSTAMP:20260423T082459
CREATED:20200914T183325Z
LAST-MODIFIED:20210217T172447Z
UID:1510-1616716800-1616803199@alldaymontessori.org
SUMMARY:Conference Day - NO SCHOOL FOR STUDENTS
DESCRIPTION:
URL:https://alldaymontessori.org/event/conference-day-no-school-for-students-2/
CATEGORIES:No School
END:VEVENT
BEGIN:VEVENT
DTSTART;VALUE=DATE:20210327
DTEND;VALUE=DATE:20210328
DTSTAMP:20260423T082459
CREATED:20200914T183304Z
LAST-MODIFIED:20210217T172514Z
UID:1508-1616803200-1616889599@alldaymontessori.org
SUMMARY:Admissions Open House
DESCRIPTION:
URL:https://alldaymontessori.org/event/admissions-open-house-2/
CATEGORIES:Open House
END:VEVENT
BEGIN:VEVENT
DTSTART;VALUE=DATE:20210329
DTEND;VALUE=DATE:20210403
DTSTAMP:20260423T082459
CREATED:20200914T183343Z
LAST-MODIFIED:20200914T183343Z
UID:1512-1616976000-1617407999@alldaymontessori.org
SUMMARY:Spring Holiday – NO SCHOOL
DESCRIPTION:
URL:https://alldaymontessori.org/event/spring-holiday-no-school/
CATEGORIES:No School
END:VEVENT
END:VCALENDAR