BEGIN:VCALENDAR
VERSION:2.0
PRODID:-//All Day Montessori - ECPv6.15.20//NONSGML v1.0//EN
CALSCALE:GREGORIAN
METHOD:PUBLISH
X-WR-CALNAME:All Day Montessori
X-ORIGINAL-URL:https://alldaymontessori.org
X-WR-CALDESC:Events for All Day Montessori
REFRESH-INTERVAL;VALUE=DURATION:PT1H
X-Robots-Tag:noindex
X-PUBLISHED-TTL:PT1H
BEGIN:VTIMEZONE
TZID:America/Chicago
BEGIN:DAYLIGHT
TZOFFSETFROM:-0600
TZOFFSETTO:-0500
TZNAME:CDT
DTSTART:20210314T080000
END:DAYLIGHT
BEGIN:STANDARD
TZOFFSETFROM:-0500
TZOFFSETTO:-0600
TZNAME:CST
DTSTART:20211107T070000
END:STANDARD
BEGIN:DAYLIGHT
TZOFFSETFROM:-0600
TZOFFSETTO:-0500
TZNAME:CDT
DTSTART:20220313T080000
END:DAYLIGHT
BEGIN:STANDARD
TZOFFSETFROM:-0500
TZOFFSETTO:-0600
TZNAME:CST
DTSTART:20221106T070000
END:STANDARD
BEGIN:DAYLIGHT
TZOFFSETFROM:-0600
TZOFFSETTO:-0500
TZNAME:CDT
DTSTART:20230312T080000
END:DAYLIGHT
BEGIN:STANDARD
TZOFFSETFROM:-0500
TZOFFSETTO:-0600
TZNAME:CST
DTSTART:20231105T070000
END:STANDARD
END:VTIMEZONE
BEGIN:VEVENT
DTSTART;VALUE=DATE:20220627
DTEND;VALUE=DATE:20220723
DTSTAMP:20260422T004348
CREATED:20220322T192643Z
LAST-MODIFIED:20220322T192643Z
UID:1840-1656288000-1658534399@alldaymontessori.org
SUMMARY:Summer Camp Session 1
DESCRIPTION:
URL:https://alldaymontessori.org/event/summer-camp-session-1-2/
CATEGORIES:Summer Camp
END:VEVENT
BEGIN:VEVENT
DTSTART;VALUE=DATE:20220704
DTEND;VALUE=DATE:20220705
DTSTAMP:20260422T004348
CREATED:20220322T192704Z
LAST-MODIFIED:20220322T192704Z
UID:1842-1656892800-1656979199@alldaymontessori.org
SUMMARY:Independence Day – NO SCHOOL
DESCRIPTION:
URL:https://alldaymontessori.org/event/independence-day-no-school/
CATEGORIES:No School
END:VEVENT
BEGIN:VEVENT
DTSTART;VALUE=DATE:20220717
DTEND;VALUE=DATE:20220718
DTSTAMP:20260422T004348
CREATED:20210707T233004Z
LAST-MODIFIED:20210707T233004Z
UID:1680-1658016000-1658102399@alldaymontessori.org
SUMMARY:Last Day of School for Students
DESCRIPTION:
URL:https://alldaymontessori.org/event/last-day-of-school-for-students-3/
END:VEVENT
BEGIN:VEVENT
DTSTART;VALUE=DATE:20220725
DTEND;VALUE=DATE:20220820
DTSTAMP:20260422T004348
CREATED:20220322T192725Z
LAST-MODIFIED:20220322T192725Z
UID:1844-1658707200-1660953599@alldaymontessori.org
SUMMARY:Summer Camp Session 2
DESCRIPTION:
URL:https://alldaymontessori.org/event/summer-camp-session-2-2/
CATEGORIES:Summer Camp
END:VEVENT
END:VCALENDAR